BEGIN:VCALENDAR
VERSION:2.0
PRODID:-//M de Música - ECPv5.14.1//NONSGML v1.0//EN
CALSCALE:GREGORIAN
METHOD:PUBLISH
X-WR-CALNAME:M de Música
X-ORIGINAL-URL:http://mdemusica.pt
X-WR-CALDESC:Events for M de Música
BEGIN:VTIMEZONE
TZID:Europe/Lisbon
BEGIN:DAYLIGHT
TZOFFSETFROM:+0000
TZOFFSETTO:+0100
TZNAME:WEST
DTSTART:20170326T010000
END:DAYLIGHT
BEGIN:STANDARD
TZOFFSETFROM:+0100
TZOFFSETTO:+0000
TZNAME:WET
DTSTART:20171029T010000
END:STANDARD
END:VTIMEZONE
BEGIN:VEVENT
DTSTART;VALUE=DATE:20170518
DTEND;VALUE=DATE:20170519
DTSTAMP:20260420T043624
CREATED:20170320T170459Z
LAST-MODIFIED:20170320T170459Z
UID:10454-1495065600-1495151999@mdemusica.pt
SUMMARY:Ivan Lins\, Centro Cultural de Belém
DESCRIPTION:
URL:http://mdemusica.pt/agenda/ivan-lins-centro-cultural-belem/
LOCATION:Centro Cultural de Belém\, Praça do Império\, \, Lisboa\, 1449-003 \, Portugal
ATTACH;FMTTYPE=image/jpeg:http://mdemusica.pt/wp-content/uploads/2017/03/Ivan-Lins-Casa-da-Música-Porto.jpeg
END:VEVENT
BEGIN:VEVENT
DTSTART;VALUE=DATE:20170518
DTEND;VALUE=DATE:20170519
DTSTAMP:20260420T043624
CREATED:20170410T114704Z
LAST-MODIFIED:20170410T114704Z
UID:10643-1495065600-1495151999@mdemusica.pt
SUMMARY:Bong\, Galeria Zé dos Bois\, Lisboa
DESCRIPTION:
URL:http://mdemusica.pt/agenda/bong-galeria-ze-dos-bois-lisboa/
LOCATION:Galeria Zé dos Bois\, R. da Barroca 59\, Lisboa\, 1200-037 \, Portugal
ATTACH;FMTTYPE=image/jpeg:http://mdemusica.pt/wp-content/uploads/2017/04/bong.jpg
END:VEVENT
BEGIN:VEVENT
DTSTART;VALUE=DATE:20170518
DTEND;VALUE=DATE:20170519
DTSTAMP:20260420T043624
CREATED:20170427T154302Z
LAST-MODIFIED:20170427T154348Z
UID:10955-1495065600-1495151999@mdemusica.pt
SUMMARY:Sofia Ribeiro\, Auditório Camões\, Lisboa
DESCRIPTION:
URL:http://mdemusica.pt/agenda/sofia-ribeiro-auditorio-camoes-lisboa/
LOCATION:Auditório Camões\, R. Alm. Barroso 25A\, Lisboa
ATTACH;FMTTYPE=image/jpeg:http://mdemusica.pt/wp-content/uploads/2017/04/unnamed-5.jpg
END:VEVENT
END:VCALENDAR