BEGIN:VCALENDAR
VERSION:2.0
PRODID:-//M de Música - ECPv5.14.1//NONSGML v1.0//EN
CALSCALE:GREGORIAN
METHOD:PUBLISH
X-WR-CALNAME:M de Música
X-ORIGINAL-URL:http://mdemusica.pt
X-WR-CALDESC:Events for M de Música
BEGIN:VTIMEZONE
TZID:Europe/Lisbon
BEGIN:DAYLIGHT
TZOFFSETFROM:+0000
TZOFFSETTO:+0100
TZNAME:WEST
DTSTART:20170326T010000
END:DAYLIGHT
BEGIN:STANDARD
TZOFFSETFROM:+0100
TZOFFSETTO:+0000
TZNAME:WET
DTSTART:20171029T010000
END:STANDARD
END:VTIMEZONE
BEGIN:VEVENT
DTSTART;VALUE=DATE:20170505
DTEND;VALUE=DATE:20170506
DTSTAMP:20260420T043321
CREATED:20170227T124520Z
LAST-MODIFIED:20170227T124520Z
UID:10257-1493942400-1494028799@mdemusica.pt
SUMMARY:The Gift\, Cine Teatro Avenida\, Castelo Branco
DESCRIPTION:
URL:http://mdemusica.pt/agenda/the-gift-cine-teatro-avenida-castelo-branco/
LOCATION:Cine-Teatro Avenida\,  Av. Gen. Humberto Delgado\, 6000-081 Castelo Branco\, 6000-081 Castelo Branco
ATTACH;FMTTYPE=image/jpeg:http://mdemusica.pt/wp-content/uploads/2017/02/Altar-é-o-novo-álbum-dos-Gift.jpg
END:VEVENT
BEGIN:VEVENT
DTSTART;VALUE=DATE:20170505
DTEND;VALUE=DATE:20170506
DTSTAMP:20260420T043321
CREATED:20170410T112621Z
LAST-MODIFIED:20170410T112621Z
UID:10627-1493942400-1494028799@mdemusica.pt
SUMMARY:Wim Mertens\, Teatro Municipal\, Guarda
DESCRIPTION:
URL:http://mdemusica.pt/agenda/wim-mertens-teatro-municipal-guarda/
LOCATION:Teatro Municipal da Guarda\, Rua Batalha Reis\, Nº 12\, GUARDA \, 6300-668 \, Portugal
ATTACH;FMTTYPE=image/jpeg:http://mdemusica.pt/wp-content/uploads/2017/04/Wim-Mertens-Teatro-Municipal-Guarda.jpg
END:VEVENT
BEGIN:VEVENT
DTSTART;TZID=Europe/Lisbon:20170505T080000
DTEND;TZID=Europe/Lisbon:20170505T170000
DTSTAMP:20260420T043321
CREATED:20170410T112257Z
LAST-MODIFIED:20170410T112257Z
UID:10624-1493971200-1494003600@mdemusica.pt
SUMMARY:Rui Massena\, Auditório da Maia
DESCRIPTION:
URL:http://mdemusica.pt/agenda/rui-massena-auditorio-da-maia-2/
LOCATION:Auditório da Maia\,  R. Eng. Duarte Pacheco\,  Maia\,  4470-136\, Portugal
ATTACH;FMTTYPE=image/jpeg:http://mdemusica.pt/wp-content/uploads/2016/11/capa_287081.jpg
END:VEVENT
END:VCALENDAR