BEGIN:VCALENDAR
VERSION:2.0
PRODID:-//M de Música - ECPv5.14.1//NONSGML v1.0//EN
CALSCALE:GREGORIAN
METHOD:PUBLISH
X-WR-CALNAME:M de Música
X-ORIGINAL-URL:http://mdemusica.pt
X-WR-CALDESC:Events for M de Música
BEGIN:VTIMEZONE
TZID:Europe/Lisbon
BEGIN:DAYLIGHT
TZOFFSETFROM:+0000
TZOFFSETTO:+0100
TZNAME:WEST
DTSTART:20170326T010000
END:DAYLIGHT
BEGIN:STANDARD
TZOFFSETFROM:+0100
TZOFFSETTO:+0000
TZNAME:WET
DTSTART:20171029T010000
END:STANDARD
END:VTIMEZONE
BEGIN:VEVENT
DTSTART;VALUE=DATE:20170430
DTEND;VALUE=DATE:20170501
DTSTAMP:20260420T055949
CREATED:20170410T111701Z
LAST-MODIFIED:20170410T111701Z
UID:10622-1493510400-1493596799@mdemusica.pt
SUMMARY:Anselmo Ralph\, DJ CyberX\, Ovibeja
DESCRIPTION:
URL:http://mdemusica.pt/agenda/anselmo-ralph-dj-cyberx-ovibeja/
LOCATION:Ovibeja\,  R. Cidade de São Paulo 36 \, Beja\, 7800 \, Portugal
ATTACH;FMTTYPE=image/png:http://mdemusica.pt/wp-content/uploads/2017/04/ovibeja.png
END:VEVENT
BEGIN:VEVENT
DTSTART;VALUE=DATE:20170430
DTEND;VALUE=DATE:20170501
DTSTAMP:20260420T055949
CREATED:20170427T113718Z
LAST-MODIFIED:20170427T113718Z
UID:10898-1493510400-1493596799@mdemusica.pt
SUMMARY:Bass Meets Techno #02 com  Cleric (uk)\, Twofold\, Glove\, Midinoize\, Trigger\, Shall Ocin (Arg)\, John-E\, Himan\, ARBG\, Marques Oliver\,  ANT TC1 (uk)\, Riot\, Groovekid\, Y.L.S. b2b Skalator\, Xtanki b2b 404 not found - Main\, Lisboa
DESCRIPTION: 
URL:http://mdemusica.pt/agenda/bass-meets-techno-02/
LOCATION:Main\, Av. 24 de Julho\, 68\, Lisboa\, Portugal
ATTACH;FMTTYPE=image/jpeg:http://mdemusica.pt/wp-content/uploads/2017/04/18033580_1474065115946639_8032708998858266773_n.jpeg
END:VEVENT
END:VCALENDAR