BEGIN:VCALENDAR
VERSION:2.0
PRODID:-//M de Música - ECPv5.14.1//NONSGML v1.0//EN
CALSCALE:GREGORIAN
METHOD:PUBLISH
X-WR-CALNAME:M de Música
X-ORIGINAL-URL:http://mdemusica.pt
X-WR-CALDESC:Events for M de Música
BEGIN:VTIMEZONE
TZID:Europe/Lisbon
BEGIN:DAYLIGHT
TZOFFSETFROM:+0000
TZOFFSETTO:+0100
TZNAME:WEST
DTSTART:20170326T010000
END:DAYLIGHT
BEGIN:STANDARD
TZOFFSETFROM:+0100
TZOFFSETTO:+0000
TZNAME:WET
DTSTART:20171029T010000
END:STANDARD
END:VTIMEZONE
BEGIN:VEVENT
DTSTART;VALUE=DATE:20170422
DTEND;VALUE=DATE:20170423
DTSTAMP:20260420T061042
CREATED:20170206T164456Z
LAST-MODIFIED:20170206T164456Z
UID:9865-1492819200-1492905599@mdemusica.pt
SUMMARY:Áurea\, Cine-teatro Louletano\, Loulé
DESCRIPTION:
URL:http://mdemusica.pt/agenda/aurea-cine-teatro-louletano-loule/
LOCATION:Cine-Teatro Louletano\, Avenida José da Costa Mealha\, Loulé\,  8100-501\, Portugal
ATTACH;FMTTYPE=image/jpeg:http://mdemusica.pt/wp-content/uploads/2017/02/Áurea-Cine-teatro-Louletano-Loulé.jpg
END:VEVENT
BEGIN:VEVENT
DTSTART;VALUE=DATE:20170422
DTEND;VALUE=DATE:20170423
DTSTAMP:20260420T061042
CREATED:20170206T192356Z
LAST-MODIFIED:20170206T192356Z
UID:9996-1492819200-1492905599@mdemusica.pt
SUMMARY:Raquel Tavares\, Coliseu\, Porto
DESCRIPTION:
URL:http://mdemusica.pt/agenda/raquel-tavares-coliseu-porto/
LOCATION:Coliseu Porto\, Rua Passos Manuel\, 137 \, Porto\, · 4000-385 
ATTACH;FMTTYPE=image/jpeg:http://mdemusica.pt/wp-content/uploads/2017/02/RaquelTavares.jpg
END:VEVENT
BEGIN:VEVENT
DTSTART;VALUE=DATE:20170422
DTEND;VALUE=DATE:20170423
DTSTAMP:20260420T061042
CREATED:20170227T124337Z
LAST-MODIFIED:20170227T124337Z
UID:10250-1492819200-1492905599@mdemusica.pt
SUMMARY:The Gift\, Casa das Artes\, Vila Nova de Famalicão
DESCRIPTION:
URL:http://mdemusica.pt/agenda/the-gift-casa-das-artes-vila-nova-famalicao/
LOCATION:Casa das Artes de Famalicão\, Parque de Sinçães\, Portugal\, Av. Carlos Bacelar\, Vila Nova de Famalicão
ATTACH;FMTTYPE=image/jpeg:http://mdemusica.pt/wp-content/uploads/2017/02/Altar-é-o-novo-álbum-dos-Gift.jpg
END:VEVENT
BEGIN:VEVENT
DTSTART;VALUE=DATE:20170422
DTEND;VALUE=DATE:20170423
DTSTAMP:20260420T061042
CREATED:20170410T103959Z
LAST-MODIFIED:20170410T103959Z
UID:10604-1492819200-1492905599@mdemusica.pt
SUMMARY:Orquestra de Jazz da EPME com Mário Laginha\, Auditório de Espinho
DESCRIPTION:
URL:http://mdemusica.pt/agenda/orquestra-jazz-da-epme-mario-laginha-auditorio-espinho/
LOCATION:Auditório de Espinho\, Rua 34\, nº884 –\, Espinho\,  4500-318 \, Portugal
ATTACH;FMTTYPE=image/jpeg:http://mdemusica.pt/wp-content/uploads/2017/04/Orquestra-de-Jazz-da-EPME-com-Mário-Laginha-Auditório-de-Espinho.jpeg
END:VEVENT
BEGIN:VEVENT
DTSTART;VALUE=DATE:20170422
DTEND;VALUE=DATE:20170423
DTSTAMP:20260420T061042
CREATED:20170410T110000Z
LAST-MODIFIED:20170410T110000Z
UID:10607-1492819200-1492905599@mdemusica.pt
SUMMARY:Birds Are Indie\, Cineteatro Garrett
DESCRIPTION:
URL:http://mdemusica.pt/agenda/birds-are-indie-cineteatro-garrett-povoa-do-varzim/
LOCATION:Cine-Teatro Garrett\, R. José Malgueira 13\, Póvoa de Varzim\, 4490-647\, Portugal
ATTACH;FMTTYPE=image/jpeg:http://mdemusica.pt/wp-content/uploads/2016/11/1456758711_Birds_Are_Indie_profile.jpg
END:VEVENT
END:VCALENDAR