BEGIN:VCALENDAR
VERSION:2.0
PRODID:-//M de Música - ECPv5.14.1//NONSGML v1.0//EN
CALSCALE:GREGORIAN
METHOD:PUBLISH
X-WR-CALNAME:M de Música
X-ORIGINAL-URL:http://mdemusica.pt
X-WR-CALDESC:Events for M de Música
BEGIN:VTIMEZONE
TZID:Europe/Lisbon
BEGIN:DAYLIGHT
TZOFFSETFROM:+0000
TZOFFSETTO:+0100
TZNAME:WEST
DTSTART:20170326T010000
END:DAYLIGHT
BEGIN:STANDARD
TZOFFSETFROM:+0100
TZOFFSETTO:+0000
TZNAME:WET
DTSTART:20171029T010000
END:STANDARD
END:VTIMEZONE
BEGIN:VEVENT
DTSTART;VALUE=DATE:20170419
DTEND;VALUE=DATE:20170420
DTSTAMP:20260420T060956
CREATED:20170410T103615Z
LAST-MODIFIED:20170410T103615Z
UID:10602-1492560000-1492646399@mdemusica.pt
SUMMARY:Birds Are Indie\, Cineteatro António Lamoso
DESCRIPTION:
URL:http://mdemusica.pt/agenda/birds-are-indie-cineteatro-antonio-lamoso/
LOCATION:Cine-Teatro António Lamoso\, Rua Prof. Egas Moniz\, 11 \, Santa Maria da Feira\, 4520-909\, Portugal
ATTACH;FMTTYPE=image/jpeg:http://mdemusica.pt/wp-content/uploads/2016/11/1456758711_Birds_Are_Indie_profile.jpg
END:VEVENT
BEGIN:VEVENT
DTSTART;TZID=Europe/Lisbon:20170419T080000
DTEND;TZID=Europe/Lisbon:20170419T170000
DTSTAMP:20260420T060956
CREATED:20170227T124056Z
LAST-MODIFIED:20170227T124056Z
UID:10241-1492588800-1492621200@mdemusica.pt
SUMMARY:The Gift\, Centro Cultural de Belém\, Lisboa
DESCRIPTION:
URL:http://mdemusica.pt/agenda/the-gift-centro-cultural-belem-lisboa/
LOCATION:Centro Cultural de Belém\, Praça do Império\, \, Lisboa\, 1449-003 \, Portugal
ATTACH;FMTTYPE=image/jpeg:http://mdemusica.pt/wp-content/uploads/2017/02/Altar-é-o-novo-álbum-dos-Gift.jpg
END:VEVENT
END:VCALENDAR