BEGIN:VCALENDAR
VERSION:2.0
PRODID:-//M de Música - ECPv5.14.1//NONSGML v1.0//EN
CALSCALE:GREGORIAN
METHOD:PUBLISH
X-WR-CALNAME:M de Música
X-ORIGINAL-URL:http://mdemusica.pt
X-WR-CALDESC:Events for M de Música
BEGIN:VTIMEZONE
TZID:Europe/Lisbon
BEGIN:DAYLIGHT
TZOFFSETFROM:+0000
TZOFFSETTO:+0100
TZNAME:WEST
DTSTART:20170326T010000
END:DAYLIGHT
BEGIN:STANDARD
TZOFFSETFROM:+0100
TZOFFSETTO:+0000
TZNAME:WET
DTSTART:20171029T010000
END:STANDARD
END:VTIMEZONE
BEGIN:VEVENT
DTSTART;TZID=Europe/Lisbon:20170410T080000
DTEND;TZID=Europe/Lisbon:20170410T170000
DTSTAMP:20260420T060145
CREATED:20170410T124603Z
LAST-MODIFIED:20170410T124603Z
UID:10678-1491811200-1491843600@mdemusica.pt
SUMMARY:Salvador Sobral\, Convento São Francisco\, Coimbra
DESCRIPTION:
URL:http://mdemusica.pt/agenda/salvador-sobral-convento-sao-francisco-coimbra/
ATTACH;FMTTYPE=image/jpeg:http://mdemusica.pt/wp-content/uploads/2017/04/Salvador-Sobral-em-digressão-pelo-país.jpg
END:VEVENT
END:VCALENDAR