BEGIN:VCALENDAR
VERSION:2.0
PRODID:-//M de Música - ECPv5.14.1//NONSGML v1.0//EN
CALSCALE:GREGORIAN
METHOD:PUBLISH
X-WR-CALNAME:M de Música
X-ORIGINAL-URL:http://mdemusica.pt
X-WR-CALDESC:Events for M de Música
BEGIN:VTIMEZONE
TZID:Europe/Lisbon
BEGIN:DAYLIGHT
TZOFFSETFROM:+0000
TZOFFSETTO:+0100
TZNAME:WEST
DTSTART:20170326T010000
END:DAYLIGHT
BEGIN:STANDARD
TZOFFSETFROM:+0100
TZOFFSETTO:+0000
TZNAME:WET
DTSTART:20171029T010000
END:STANDARD
END:VTIMEZONE
BEGIN:VEVENT
DTSTART;VALUE=DATE:20170406
DTEND;VALUE=DATE:20170407
DTSTAMP:20260420T060951
CREATED:20170227T121224Z
LAST-MODIFIED:20170227T121224Z
UID:10186-1491436800-1491523199@mdemusica.pt
SUMMARY:Caparica Primavera Surf Fest: Diogo Piçarra\, April Ivy\, Slow J
DESCRIPTION:
URL:http://mdemusica.pt/agenda/caparica-primavera-surf-fest-diogo-picarra-april-ivy-slow-j/
LOCATION:Caparica Primavera Surf Fest\, Costa da Caparica\, Praia do Paraíso
END:VEVENT
BEGIN:VEVENT
DTSTART;TZID=Europe/Lisbon:20170406T080000
DTEND;TZID=Europe/Lisbon:20170406T170000
DTSTAMP:20260420T060951
CREATED:20170227T121518Z
LAST-MODIFIED:20170227T121518Z
UID:10201-1491465600-1491498000@mdemusica.pt
SUMMARY:Paula Fernandes\, Coliseu dos Recreios\, Lisboa
DESCRIPTION:
URL:http://mdemusica.pt/agenda/paula-fernandes-coliseu-dos-recreios-lisboa/
LOCATION:Coliseu dos Recreios\, Rua das Portas de Santo Antão\, 96\,  Lisboa\,  1150-269\, Portugal
ATTACH;FMTTYPE=image/png:http://mdemusica.pt/wp-content/uploads/2017/02/Paula-Fernandes.png
END:VEVENT
END:VCALENDAR