BEGIN:VCALENDAR
VERSION:2.0
PRODID:-//M de Música - ECPv5.14.1//NONSGML v1.0//EN
CALSCALE:GREGORIAN
METHOD:PUBLISH
X-WR-CALNAME:M de Música
X-ORIGINAL-URL:http://mdemusica.pt
X-WR-CALDESC:Events for M de Música
BEGIN:VTIMEZONE
TZID:Europe/Lisbon
BEGIN:DAYLIGHT
TZOFFSETFROM:+0000
TZOFFSETTO:+0100
TZNAME:WEST
DTSTART:20170326T010000
END:DAYLIGHT
BEGIN:STANDARD
TZOFFSETFROM:+0100
TZOFFSETTO:+0000
TZNAME:WET
DTSTART:20171029T010000
END:STANDARD
END:VTIMEZONE
BEGIN:VEVENT
DTSTART;TZID=Europe/Lisbon:20170405T080000
DTEND;TZID=Europe/Lisbon:20170405T170000
DTSTAMP:20260420T060956
CREATED:20170206T172409Z
LAST-MODIFIED:20170206T172409Z
UID:9916-1491379200-1491411600@mdemusica.pt
SUMMARY:Rui Massena\, Auditório da Maia
DESCRIPTION:
URL:http://mdemusica.pt/agenda/rui-massena-auditorio-da-maia/
LOCATION:Auditório da Maia\,  R. Eng. Duarte Pacheco\,  Maia\,  4470-136\, Portugal
ATTACH;FMTTYPE=image/jpeg:http://mdemusica.pt/wp-content/uploads/2016/11/capa_287081.jpg
END:VEVENT
END:VCALENDAR