BEGIN:VCALENDAR
VERSION:2.0
PRODID:-//M de Música - ECPv5.14.1//NONSGML v1.0//EN
CALSCALE:GREGORIAN
METHOD:PUBLISH
X-WR-CALNAME:M de Música
X-ORIGINAL-URL:http://mdemusica.pt
X-WR-CALDESC:Events for M de Música
BEGIN:VTIMEZONE
TZID:Europe/Lisbon
BEGIN:DAYLIGHT
TZOFFSETFROM:+0000
TZOFFSETTO:+0100
TZNAME:WEST
DTSTART:20170326T010000
END:DAYLIGHT
BEGIN:STANDARD
TZOFFSETFROM:+0100
TZOFFSETTO:+0000
TZNAME:WET
DTSTART:20171029T010000
END:STANDARD
END:VTIMEZONE
BEGIN:VEVENT
DTSTART;VALUE=DATE:20170328
DTEND;VALUE=DATE:20170329
DTSTAMP:20260420T061235
CREATED:20170206T192047Z
LAST-MODIFIED:20170206T192047Z
UID:9991-1490659200-1490745599@mdemusica.pt
SUMMARY:União das Tribos\, Fórum Municipal Luísa Todi\, Setúbal
DESCRIPTION:
URL:http://mdemusica.pt/agenda/uniao-das-tribos-forum-municipal-luisa-todi-setubal/
LOCATION:Forum Luísa Todi\, Av. Luísa Todi 61-67 Santa Maria da Graça\,  Setúbal\, 2900-459
END:VEVENT
END:VCALENDAR