BEGIN:VCALENDAR
VERSION:2.0
PRODID:-//M de Música - ECPv5.14.1//NONSGML v1.0//EN
CALSCALE:GREGORIAN
METHOD:PUBLISH
X-WR-CALNAME:M de Música
X-ORIGINAL-URL:http://mdemusica.pt
X-WR-CALDESC:Events for M de Música
BEGIN:VTIMEZONE
TZID:Europe/Lisbon
BEGIN:DAYLIGHT
TZOFFSETFROM:+0000
TZOFFSETTO:+0100
TZNAME:WEST
DTSTART:20170326T010000
END:DAYLIGHT
BEGIN:STANDARD
TZOFFSETFROM:+0100
TZOFFSETTO:+0000
TZNAME:WET
DTSTART:20171029T010000
END:STANDARD
END:VTIMEZONE
BEGIN:VEVENT
DTSTART;VALUE=DATE:20170320
DTEND;VALUE=DATE:20170321
DTSTAMP:20260420T074312
CREATED:20170206T172139Z
LAST-MODIFIED:20170206T172139Z
UID:9917-1489968000-1490054399@mdemusica.pt
SUMMARY:Joan As Police Woman & Benjamin Lazar Davis\, Teatro da Trindade\, Lisboa
DESCRIPTION:
URL:http://mdemusica.pt/agenda/joan-as-police-woman-benjamin-lazar-davis-teatro-da-trindade-lisboa/
LOCATION:Teatro da Trindade\,  R. Nova da Trindade 9\, Lisboa\, 1200-301 \, Portugal
ATTACH;FMTTYPE=image/jpeg:http://mdemusica.pt/wp-content/uploads/2017/02/Joan-As-Police-Woman-Theatro-Circo-Braga.jpg
END:VEVENT
BEGIN:VEVENT
DTSTART;TZID=Europe/Lisbon:20170320T080000
DTEND;TZID=Europe/Lisbon:20170320T170000
DTSTAMP:20260420T074312
CREATED:20170320T165219Z
LAST-MODIFIED:20170320T165219Z
UID:10446-1489996800-1490029200@mdemusica.pt
SUMMARY:Rodrigo Serrão\, Convento Santa Cruz
DESCRIPTION:
URL:http://mdemusica.pt/agenda/rodrigo-serrao-convento-santa-cruz/
LOCATION:Convento de Santa Cruz\, Convento de Santa Cruz\,  Luso\, 3050-261
ATTACH;FMTTYPE=image/jpeg:http://mdemusica.pt/wp-content/uploads/2017/03/ROdrigo-Serrão-1.jpg
END:VEVENT
END:VCALENDAR