BEGIN:VCALENDAR
VERSION:2.0
PRODID:-//M de Música - ECPv5.14.1//NONSGML v1.0//EN
CALSCALE:GREGORIAN
METHOD:PUBLISH
X-WR-CALNAME:M de Música
X-ORIGINAL-URL:http://mdemusica.pt
X-WR-CALDESC:Events for M de Música
BEGIN:VTIMEZONE
TZID:Europe/Lisbon
BEGIN:DAYLIGHT
TZOFFSETFROM:+0000
TZOFFSETTO:+0100
TZNAME:WEST
DTSTART:20170326T010000
END:DAYLIGHT
BEGIN:STANDARD
TZOFFSETFROM:+0100
TZOFFSETTO:+0000
TZNAME:WET
DTSTART:20171029T010000
END:STANDARD
END:VTIMEZONE
BEGIN:VEVENT
DTSTART;VALUE=DATE:20170310
DTEND;VALUE=DATE:20170311
DTSTAMP:20260420T074305
CREATED:20161219T123715Z
LAST-MODIFIED:20161219T130148Z
UID:9459-1489104000-1489190399@mdemusica.pt
SUMMARY:Cock Robin\, Coliseu do Porto
DESCRIPTION:
URL:http://mdemusica.pt/agenda/cock-robin-coliseu-do-porto/
LOCATION:Coliseu Porto\, Rua Passos Manuel\, 137 \, Porto\, · 4000-385 
ATTACH;FMTTYPE=image/png:http://mdemusica.pt/wp-content/uploads/2016/12/COCKROBINCONCERTO.png
END:VEVENT
BEGIN:VEVENT
DTSTART;VALUE=DATE:20170310
DTEND;VALUE=DATE:20170311
DTSTAMP:20260420T074305
CREATED:20170206T160910Z
LAST-MODIFIED:20170206T160910Z
UID:9818-1489104000-1489190399@mdemusica.pt
SUMMARY:Rodrigo Leão & Scott Matthew\, Teatro Micaelense\, Ponta Delgada
DESCRIPTION:
URL:http://mdemusica.pt/agenda/rodrigo-leao-scott-matthew-teatro-micaelense-ponta-delgada/
LOCATION:Teatro Micaelense\, Largo de S. João\,  Ponta Delgada\,  S. Miguel Açores \, Portugal
ATTACH;FMTTYPE=image/jpeg:http://mdemusica.pt/wp-content/uploads/2017/02/2016-05-25-scottmatthew_rodrigoleao.jpg
END:VEVENT
BEGIN:VEVENT
DTSTART;VALUE=DATE:20170310
DTEND;VALUE=DATE:20170311
DTSTAMP:20260420T074305
CREATED:20170206T191042Z
LAST-MODIFIED:20170206T191042Z
UID:9982-1489104000-1489190399@mdemusica.pt
SUMMARY:Capitão Fausto\, Centro Cultural Olga Cadaval\, Sintra
DESCRIPTION:
URL:http://mdemusica.pt/agenda/capitao-fausto-centro-cultural-olga-cadaval-sintra/
LOCATION:Centro Cultural Olga Cadaval\, Av. Dom Francisco de Almeida\, Sintra\,  2710-720\, Portugal
ATTACH;FMTTYPE=image/jpeg:http://mdemusica.pt/wp-content/uploads/2016/10/Capitão-Fausto-contam-os-dias-até-ao-Coliseu.jpg
END:VEVENT
BEGIN:VEVENT
DTSTART;VALUE=DATE:20170310
DTEND;VALUE=DATE:20170311
DTSTAMP:20260420T074305
CREATED:20170227T112703Z
LAST-MODIFIED:20170227T112703Z
UID:10130-1489104000-1489190399@mdemusica.pt
SUMMARY:Russian Circles\, RCA Club\, Lisboa
DESCRIPTION:
URL:http://mdemusica.pt/agenda/russian-circles-rca-club-lisboa/
LOCATION:RCA Club\, R. João Saraiva 7\, Lisboa\, 1700-051\, Portugal
ATTACH;FMTTYPE=image/png:http://mdemusica.pt/wp-content/uploads/2017/02/Blog-russiancircles.png
END:VEVENT
BEGIN:VEVENT
DTSTART;VALUE=DATE:20170310
DTEND;VALUE=DATE:20170311
DTSTAMP:20260420T074305
CREATED:20170227T112853Z
LAST-MODIFIED:20170227T112853Z
UID:10135-1489104000-1489190399@mdemusica.pt
SUMMARY:Pascal Pinon\, Auditório\, Espinho
DESCRIPTION:
URL:http://mdemusica.pt/agenda/pascal-pinon-auditorio-espinho/
LOCATION:Auditório de Espinho\, Rua 34\, nº884 –\, Espinho\,  4500-318 \, Portugal
ATTACH;FMTTYPE=image/jpeg:http://mdemusica.pt/wp-content/uploads/2017/02/pascalsite.jpg
END:VEVENT
BEGIN:VEVENT
DTSTART;VALUE=DATE:20170310
DTEND;VALUE=DATE:20170311
DTSTAMP:20260420T074305
CREATED:20170227T113027Z
LAST-MODIFIED:20170227T113027Z
UID:10138-1489104000-1489190399@mdemusica.pt
SUMMARY:Dulce Pontes\, Teatro Tivoli BBVA\, Lisboa
DESCRIPTION:
URL:http://mdemusica.pt/agenda/dulce-pontes-teatro-tivoli-bbva-lisboa/
LOCATION:Teatro Tivoli BBVA\, Av. da Liberdade\, 182/188\, Lisboa\, 1250-146 \, Portugal
ATTACH;FMTTYPE=image/jpeg:http://mdemusica.pt/wp-content/uploads/2017/02/cartaz.jpg
END:VEVENT
BEGIN:VEVENT
DTSTART;TZID=Europe/Lisbon:20170310T080000
DTEND;TZID=Europe/Lisbon:20170311T170000
DTSTAMP:20260420T074305
CREATED:20161219T151911Z
LAST-MODIFIED:20170206T153908Z
UID:9483-1489132800-1489251600@mdemusica.pt
SUMMARY:Lisboa Dance Festival
DESCRIPTION:Hunee\, George FitzGerald\, Batida Radio DJ Set\, B2B Riot vs Nuno Forte
URL:http://mdemusica.pt/agenda/lisboa-dance-festival/
LOCATION:LxFactory\, R. Rodrigues de Faria 103\,  Lisboa\, 1300\, Portugal
ATTACH;FMTTYPE=image/jpeg:http://mdemusica.pt/wp-content/uploads/2016/12/lisbon-dance-festival.jpg
END:VEVENT
END:VCALENDAR