BEGIN:VCALENDAR
VERSION:2.0
PRODID:-//M de Música - ECPv5.14.1//NONSGML v1.0//EN
CALSCALE:GREGORIAN
METHOD:PUBLISH
X-WR-CALNAME:M de Música
X-ORIGINAL-URL:http://mdemusica.pt
X-WR-CALDESC:Events for M de Música
BEGIN:VTIMEZONE
TZID:Europe/Lisbon
BEGIN:DAYLIGHT
TZOFFSETFROM:+0000
TZOFFSETTO:+0100
TZNAME:WEST
DTSTART:20170326T010000
END:DAYLIGHT
BEGIN:STANDARD
TZOFFSETFROM:+0100
TZOFFSETTO:+0000
TZNAME:WET
DTSTART:20171029T010000
END:STANDARD
END:VTIMEZONE
BEGIN:VEVENT
DTSTART;VALUE=DATE:20170225
DTEND;VALUE=DATE:20170226
DTSTAMP:20260420T091133
CREATED:20161212T144953Z
LAST-MODIFIED:20161214T154808Z
UID:9327-1487980800-1488067199@mdemusica.pt
SUMMARY:Cristina Branco\, Centro Cultural de Belém
DESCRIPTION:
URL:http://mdemusica.pt/agenda/cristina-branco-centro-cultural-belem/
LOCATION:Centro Cultural de Belém\, Praça do Império\, \, Lisboa\, 1449-003 \, Portugal
ATTACH;FMTTYPE=image/jpeg:http://mdemusica.pt/wp-content/uploads/2016/12/cristina_branco-1.jpg
END:VEVENT
BEGIN:VEVENT
DTSTART;VALUE=DATE:20170225
DTEND;VALUE=DATE:20170226
DTSTAMP:20260420T091133
CREATED:20161212T162421Z
LAST-MODIFIED:20161214T154808Z
UID:9385-1487980800-1488067199@mdemusica.pt
SUMMARY:Salvador Sobral\, Teatro Garcia de Resende\, Évora
DESCRIPTION:
URL:http://mdemusica.pt/agenda/salvador-sobral-teatro-garcia-resende-evora/
LOCATION:TEATRO GARCIA DE RESENDE\, Praça Joaquim António de Aguiar \, Évora\, Praça Joaquim António de Aguiar 7000-510 \, Portugal
ATTACH;FMTTYPE=image/jpeg:http://mdemusica.pt/wp-content/uploads/2016/12/ImageGen.jpeg
END:VEVENT
END:VCALENDAR