BEGIN:VCALENDAR
VERSION:2.0
PRODID:-//M de Música - ECPv5.14.1//NONSGML v1.0//EN
CALSCALE:GREGORIAN
METHOD:PUBLISH
X-WR-CALNAME:M de Música
X-ORIGINAL-URL:http://mdemusica.pt
X-WR-CALDESC:Events for M de Música
BEGIN:VTIMEZONE
TZID:Europe/Lisbon
BEGIN:DAYLIGHT
TZOFFSETFROM:+0000
TZOFFSETTO:+0100
TZNAME:WEST
DTSTART:20170326T010000
END:DAYLIGHT
BEGIN:STANDARD
TZOFFSETFROM:+0100
TZOFFSETTO:+0000
TZNAME:WET
DTSTART:20171029T010000
END:STANDARD
END:VTIMEZONE
BEGIN:VEVENT
DTSTART;VALUE=DATE:20170217
DTEND;VALUE=DATE:20170218
DTSTAMP:20260420T090948
CREATED:20170206T171245Z
LAST-MODIFIED:20170206T171245Z
UID:9908-1487289600-1487375999@mdemusica.pt
SUMMARY:Mariana Aydar & Dani Black\, Teatro Diogo Bernardo\, Ponte de Lima
DESCRIPTION:
URL:http://mdemusica.pt/agenda/mariana-aydar-dani-black-teatro-diogo-bernardo-ponte-lima/
LOCATION:Teatro Diogo Bernardes\, e de uma capacidade de 310 espectadores. Wikipédia Endereço: R. Agostinho José Taveira 80\, \, Ponte de Lima\, 4990-150 
ATTACH;FMTTYPE=image/jpeg:http://mdemusica.pt/wp-content/uploads/2017/02/Mariana-Aydar-Dani-Black-Auditório-Espinho.jpg
END:VEVENT
END:VCALENDAR