BEGIN:VCALENDAR
VERSION:2.0
PRODID:-//M de Música - ECPv5.14.1//NONSGML v1.0//EN
CALSCALE:GREGORIAN
METHOD:PUBLISH
X-WR-CALNAME:M de Música
X-ORIGINAL-URL:http://mdemusica.pt
X-WR-CALDESC:Events for M de Música
BEGIN:VTIMEZONE
TZID:Europe/Lisbon
BEGIN:DAYLIGHT
TZOFFSETFROM:+0000
TZOFFSETTO:+0100
TZNAME:WEST
DTSTART:20170326T010000
END:DAYLIGHT
BEGIN:STANDARD
TZOFFSETFROM:+0100
TZOFFSETTO:+0000
TZNAME:WET
DTSTART:20171029T010000
END:STANDARD
END:VTIMEZONE
BEGIN:VEVENT
DTSTART;VALUE=DATE:20170211
DTEND;VALUE=DATE:20170212
DTSTAMP:20260420T091158
CREATED:20161212T120859Z
LAST-MODIFIED:20161214T154808Z
UID:9319-1486771200-1486857599@mdemusica.pt
SUMMARY:Skunk Anansie\, Coliseu dos Recreios
DESCRIPTION:
URL:http://mdemusica.pt/agenda/skunk-anansie-coliseu-dos-recreios/
LOCATION:Coliseu dos Recreios\, Rua das Portas de Santo Antão\, 96\,  Lisboa\,  1150-269\, Portugal
ATTACH;FMTTYPE=image/jpeg:http://mdemusica.pt/wp-content/uploads/2016/06/Skunk-Anansie.jpg
END:VEVENT
BEGIN:VEVENT
DTSTART;VALUE=DATE:20170211
DTEND;VALUE=DATE:20170212
DTSTAMP:20260420T091158
CREATED:20161212T152023Z
LAST-MODIFIED:20161214T154808Z
UID:9340-1486771200-1486857599@mdemusica.pt
SUMMARY:GNR\, Coliseu do Porto
DESCRIPTION:
URL:http://mdemusica.pt/agenda/gnr-coliseu-do-porto/
LOCATION:Coliseu Porto\, Rua Passos Manuel\, 137 \, Porto\, · 4000-385 
ATTACH;FMTTYPE=image/jpeg:http://mdemusica.pt/wp-content/uploads/2016/08/Os-GNR-também-podem-ser-lidos.jpg
END:VEVENT
BEGIN:VEVENT
DTSTART;VALUE=DATE:20170211
DTEND;VALUE=DATE:20170212
DTSTAMP:20260420T091158
CREATED:20161212T154432Z
LAST-MODIFIED:20161214T154808Z
UID:9354-1486771200-1486857599@mdemusica.pt
SUMMARY:Rui Veloso\, Centro Cultural\, Viana do Castelo
DESCRIPTION:Festival Montepio Às Vezes O Amor
URL:http://mdemusica.pt/agenda/rui-veloso-centro-cultural-viana-do-castelo/
LOCATION:Centro Cultural\, Viana do Castelo\, Praça Marques Júnior\, Viana do Castelo\, 4900\, Portugal
ATTACH;FMTTYPE=image/jpeg:http://mdemusica.pt/wp-content/uploads/2016/12/as_vezes_amor_banner_2017.jpg
END:VEVENT
BEGIN:VEVENT
DTSTART;VALUE=DATE:20170211
DTEND;VALUE=DATE:20170212
DTSTAMP:20260420T091158
CREATED:20161212T160158Z
LAST-MODIFIED:20161214T154808Z
UID:9358-1486771200-1486857599@mdemusica.pt
SUMMARY:Aurea\, Cine-Teatro Avenida\, Castelo Branco
DESCRIPTION:Festival Montepio Às Vezes O Amor
URL:http://mdemusica.pt/agenda/aurea-cine-teatro-avenida-castelo-branco/
LOCATION:Cine-Teatro Avenida\,  Av. Gen. Humberto Delgado\, 6000-081 Castelo Branco\, 6000-081 Castelo Branco
ATTACH;FMTTYPE=image/jpeg:http://mdemusica.pt/wp-content/uploads/2016/08/sol_da_caparica_dia2_aurea-5.jpg
END:VEVENT
BEGIN:VEVENT
DTSTART;VALUE=DATE:20170211
DTEND;VALUE=DATE:20170212
DTSTAMP:20260420T091158
CREATED:20161212T160512Z
LAST-MODIFIED:20161214T154808Z
UID:9362-1486771200-1486857599@mdemusica.pt
SUMMARY:HMB\, Teatro Municipal\, Vila do Conde
DESCRIPTION:
URL:http://mdemusica.pt/agenda/hmb-teatro-municipal-vila-do-conde/
LOCATION:Teatro Municipal\, Vila do Conde\, Av. Dr. João Canavarro\, \, Vila do Conde\, 4480 – 668 \, Portugal
ATTACH;FMTTYPE=image/jpeg:http://mdemusica.pt/wp-content/uploads/2016/12/as_vezes_amor_banner_2017.jpg
END:VEVENT
BEGIN:VEVENT
DTSTART;VALUE=DATE:20170211
DTEND;VALUE=DATE:20170212
DTSTAMP:20260420T091158
CREATED:20161212T160524Z
LAST-MODIFIED:20161214T154808Z
UID:9357-1486771200-1486857599@mdemusica.pt
SUMMARY:Jorge Palma\, Teatro Aveirense\, Aveiro
DESCRIPTION:Festival Montepio Às Vezes O Amor
URL:http://mdemusica.pt/agenda/jorge-palma-teatro-aveirense-aveiro/
LOCATION:Teatro Aveirense\, Rua Belém do Pará\, Aveiro \, 3810-066\, Portugal
ATTACH;FMTTYPE=image/jpeg:http://mdemusica.pt/wp-content/uploads/2016/12/as_vezes_amor_banner_2017.jpg
END:VEVENT
BEGIN:VEVENT
DTSTART;VALUE=DATE:20170211
DTEND;VALUE=DATE:20170212
DTSTAMP:20260420T091158
CREATED:20161219T135257Z
LAST-MODIFIED:20170206T153908Z
UID:9473-1486771200-1486857599@mdemusica.pt
SUMMARY:Sean Riley & The Slowriders\, Casa das Artes de Famalicão
DESCRIPTION:
URL:http://mdemusica.pt/agenda/sean-riley-the-slowriders-casa-das-artes-famalicao/
LOCATION:Casa das Artes de Famalicão\, Parque de Sinçães\, Portugal\, Av. Carlos Bacelar\, Vila Nova de Famalicão
ATTACH;FMTTYPE=image/jpeg:http://mdemusica.pt/wp-content/uploads/2016/12/20160411-lettring-SRSR-937x327.jpg
END:VEVENT
BEGIN:VEVENT
DTSTART;VALUE=DATE:20170211
DTEND;VALUE=DATE:20170212
DTSTAMP:20260420T091158
CREATED:20161219T140947Z
LAST-MODIFIED:20170206T153908Z
UID:9476-1486771200-1486857599@mdemusica.pt
SUMMARY:Luísa Sobral\, Centro Cultural\, Benedita
DESCRIPTION:
URL:http://mdemusica.pt/agenda/luisa-sobral-centro-cultural-benedita/
LOCATION:Centro Cultural Benedita\, Rua Cooperativa de Ensino\, Benedita\, 2475-901 \, Portugal
ATTACH;FMTTYPE=image/jpeg:http://mdemusica.pt/wp-content/uploads/2016/10/Luísa-por-Luísa.jpg
END:VEVENT
BEGIN:VEVENT
DTSTART;VALUE=DATE:20170211
DTEND;VALUE=DATE:20170212
DTSTAMP:20260420T091158
CREATED:20170206T170152Z
LAST-MODIFIED:20170206T170152Z
UID:9889-1486771200-1486857599@mdemusica.pt
SUMMARY:Dom La Nena\, Momo\, Cineteatro Louletano\, Loulé
DESCRIPTION:
URL:http://mdemusica.pt/agenda/dom-la-nena-momo-cineteatro-louletano-loule/
LOCATION:Cine-Teatro Louletano\, Avenida José da Costa Mealha\, Loulé\,  8100-501\, Portugal
ATTACH;FMTTYPE=image/jpeg:http://mdemusica.pt/wp-content/uploads/2017/02/18702539_wRJ1K.jpeg
END:VEVENT
BEGIN:VEVENT
DTSTART;VALUE=DATE:20170211
DTEND;VALUE=DATE:20170212
DTSTAMP:20260420T091158
CREATED:20170206T170257Z
LAST-MODIFIED:20170206T170257Z
UID:9891-1486771200-1486857599@mdemusica.pt
SUMMARY:Mariana Aydar & Dani Black\, Teatro São Luiz\, Lisboa
DESCRIPTION:
URL:http://mdemusica.pt/agenda/mariana-aydar-dani-black-teatro-sao-luiz-lisboa/
LOCATION:Teatro São Luiz\,  R. António Maria Cardoso 38\, \, Lisboa\, 1200-027 \, Portugal
ATTACH;FMTTYPE=image/jpeg:http://mdemusica.pt/wp-content/uploads/2017/02/Mariana-Aydar-Dani-Black-Auditório-Espinho.jpg
END:VEVENT
BEGIN:VEVENT
DTSTART;VALUE=DATE:20170211
DTEND;VALUE=DATE:20170212
DTSTAMP:20260420T091158
CREATED:20170206T175302Z
LAST-MODIFIED:20170206T175302Z
UID:9944-1486771200-1486857599@mdemusica.pt
SUMMARY:Capitão Fausto\, Theatro Circo\, Braga
DESCRIPTION:
URL:http://mdemusica.pt/agenda/capitao-fausto-theatro-circo-braga/
LOCATION:Theatro Circo\, Avenida da Liberdade\, 697 \, Braga\, 4710-251\, Portugal
ATTACH;FMTTYPE=image/jpeg:http://mdemusica.pt/wp-content/uploads/2016/10/Capitão-Fausto-contam-os-dias-até-ao-Coliseu.jpg
END:VEVENT
END:VCALENDAR