BEGIN:VCALENDAR
VERSION:2.0
PRODID:-//M de Música - ECPv5.14.1//NONSGML v1.0//EN
CALSCALE:GREGORIAN
METHOD:PUBLISH
X-WR-CALNAME:M de Música
X-ORIGINAL-URL:http://mdemusica.pt
X-WR-CALDESC:Events for M de Música
BEGIN:VTIMEZONE
TZID:Europe/Lisbon
BEGIN:DAYLIGHT
TZOFFSETFROM:+0000
TZOFFSETTO:+0100
TZNAME:WEST
DTSTART:20170326T010000
END:DAYLIGHT
BEGIN:STANDARD
TZOFFSETFROM:+0100
TZOFFSETTO:+0000
TZNAME:WET
DTSTART:20171029T010000
END:STANDARD
END:VTIMEZONE
BEGIN:VEVENT
DTSTART;VALUE=DATE:20170121
DTEND;VALUE=DATE:20170122
DTSTAMP:20260420T102412
CREATED:20161212T111207Z
LAST-MODIFIED:20161214T154845Z
UID:9310-1484956800-1485043199@mdemusica.pt
SUMMARY:The Black Mamba\, Coliseu do Porto
DESCRIPTION:
URL:http://mdemusica.pt/agenda/the-black-mamba-coliseu-do-porto/
LOCATION:Coliseu Porto\, Rua Passos Manuel\, 137 \, Porto\, · 4000-385 
ATTACH;FMTTYPE=image/jpeg:http://mdemusica.pt/wp-content/uploads/2016/12/TheBlackMamba-convidados-ColiseuPorto.jpg
END:VEVENT
END:VCALENDAR