BEGIN:VCALENDAR
VERSION:2.0
PRODID:-//M de Música - ECPv5.14.1//NONSGML v1.0//EN
CALSCALE:GREGORIAN
METHOD:PUBLISH
X-WR-CALNAME:M de Música
X-ORIGINAL-URL:http://mdemusica.pt
X-WR-CALDESC:Events for M de Música
BEGIN:VTIMEZONE
TZID:Europe/Lisbon
BEGIN:DAYLIGHT
TZOFFSETFROM:+0000
TZOFFSETTO:+0100
TZNAME:WEST
DTSTART:20160327T010000
END:DAYLIGHT
BEGIN:STANDARD
TZOFFSETFROM:+0100
TZOFFSETTO:+0000
TZNAME:WET
DTSTART:20161030T010000
END:STANDARD
END:VTIMEZONE
BEGIN:VEVENT
DTSTART;TZID=Europe/Lisbon:20161212T080000
DTEND;TZID=Europe/Lisbon:20161212T170000
DTSTAMP:20260420T121241
CREATED:20161212T160731Z
LAST-MODIFIED:20161214T154845Z
UID:9366-1481529600-1481562000@mdemusica.pt
SUMMARY:Raquel Tavares\, Cine-Teatro Pax Júlia\, Beja
DESCRIPTION:Festival Montepio Às Vezes O Amor
URL:http://mdemusica.pt/agenda/raquel-tavares-cine-teatro-pax-julia-beja/
LOCATION:Cine-Teatro Pax Júlia\, Beja\, Largo de São João\, \, Beja\, 7800 
ATTACH;FMTTYPE=image/jpeg:http://mdemusica.pt/wp-content/uploads/2016/12/as_vezes_amor_banner_2017.jpg
END:VEVENT
BEGIN:VEVENT
DTSTART;TZID=Europe/Lisbon:20161212T080000
DTEND;TZID=Europe/Lisbon:20161212T170000
DTSTAMP:20260420T121241
CREATED:20161212T161256Z
LAST-MODIFIED:20161214T154845Z
UID:9375-1481529600-1481562000@mdemusica.pt
SUMMARY:Gisela João\, Convento São Francisco\, Coimbra
DESCRIPTION:Festival Montepio Às Vezes O Amor
URL:http://mdemusica.pt/agenda/gisela-joao-convento-sao-francisco-coimbra/
LOCATION:Convento de São Francisco\, Av. da Guarda Inglesa\, 1A \,  Coimbra\, 3040-293\, Portugal
ATTACH;FMTTYPE=image/jpeg:http://mdemusica.pt/wp-content/uploads/2016/12/as_vezes_amor_banner_2017.jpg
END:VEVENT
END:VCALENDAR