BEGIN:VCALENDAR
VERSION:2.0
PRODID:-//M de Música - ECPv5.14.1//NONSGML v1.0//EN
CALSCALE:GREGORIAN
METHOD:PUBLISH
X-WR-CALNAME:M de Música
X-ORIGINAL-URL:http://mdemusica.pt
X-WR-CALDESC:Events for M de Música
BEGIN:VTIMEZONE
TZID:Europe/Lisbon
BEGIN:DAYLIGHT
TZOFFSETFROM:+0000
TZOFFSETTO:+0100
TZNAME:WEST
DTSTART:20160327T010000
END:DAYLIGHT
BEGIN:STANDARD
TZOFFSETFROM:+0100
TZOFFSETTO:+0000
TZNAME:WET
DTSTART:20161030T010000
END:STANDARD
END:VTIMEZONE
BEGIN:VEVENT
DTSTART;VALUE=DATE:20161118
DTEND;VALUE=DATE:20161119
DTSTAMP:20260420T134129
CREATED:20160531T171807Z
LAST-MODIFIED:20160531T171807Z
UID:6780-1479427200-1479513599@mdemusica.pt
SUMMARY:Agir - Coliseu dos Recreios\, Lisboa
DESCRIPTION:– Coliseu dos Recreios\, Lisboa
URL:http://mdemusica.pt/agenda/agir-coliseu-dos-recreios-lisboa/
LOCATION:Coliseu dos Recreios\, Rua das Portas de Santo Antão\, 96\,  Lisboa\,  1150-269\, Portugal
END:VEVENT
BEGIN:VEVENT
DTSTART;VALUE=DATE:20161118
DTEND;VALUE=DATE:20161119
DTSTAMP:20260420T134129
CREATED:20161017T122802Z
LAST-MODIFIED:20161018T111702Z
UID:8791-1479427200-1479513599@mdemusica.pt
SUMMARY:White Lies
DESCRIPTION:Centro Cultural de Belém\, Lisboa \n \n 
URL:http://mdemusica.pt/agenda/white-lies-centro-cultural-belem-lisboa/
LOCATION:Centro Cultural de Belém\, Praça do Império\, \, Lisboa\, 1449-003 \, Portugal
END:VEVENT
BEGIN:VEVENT
DTSTART;VALUE=DATE:20161118
DTEND;VALUE=DATE:20161119
DTSTAMP:20260420T134129
CREATED:20161017T124132Z
LAST-MODIFIED:20161018T111652Z
UID:8794-1479427200-1479513599@mdemusica.pt
SUMMARY:António Zambujo & Orquestra de Guimarães
DESCRIPTION:António Zambujo & Orquestra de Guimarães\, Multiusos de Guimarães
URL:http://mdemusica.pt/agenda/antonio-zambujo-orquestra-de-guimaraes-multiusos-de-guimaraes/
LOCATION:Pavilhão Multiusos Guimarães\, Alameda Cidade de Lisboa 481\, \, Guimarães\, 4835-037\, Portugal
END:VEVENT
END:VCALENDAR