BEGIN:VCALENDAR
VERSION:2.0
PRODID:-//M de Música - ECPv5.14.1//NONSGML v1.0//EN
CALSCALE:GREGORIAN
METHOD:PUBLISH
X-WR-CALNAME:M de Música
X-ORIGINAL-URL:http://mdemusica.pt
X-WR-CALDESC:Events for M de Música
BEGIN:VTIMEZONE
TZID:Europe/Lisbon
BEGIN:DAYLIGHT
TZOFFSETFROM:+0000
TZOFFSETTO:+0100
TZNAME:WEST
DTSTART:20160327T010000
END:DAYLIGHT
BEGIN:STANDARD
TZOFFSETFROM:+0100
TZOFFSETTO:+0000
TZNAME:WET
DTSTART:20161030T010000
END:STANDARD
END:VTIMEZONE
BEGIN:VEVENT
DTSTART;VALUE=DATE:20161111
DTEND;VALUE=DATE:20161113
DTSTAMP:20260420T134432
CREATED:20161017T120448Z
LAST-MODIFIED:20161018T111733Z
UID:8779-1478822400-1478995199@mdemusica.pt
SUMMARY:Mariza
DESCRIPTION:Coliseu dos Recreios\, Lisboa
URL:http://mdemusica.pt/agenda/mariza-coliseu-dos-recreios-lisboa/
LOCATION:Coliseu dos Recreios\, Rua das Portas de Santo Antão\, 96\,  Lisboa\,  1150-269\, Portugal
END:VEVENT
BEGIN:VEVENT
DTSTART;VALUE=DATE:20161112
DTEND;VALUE=DATE:20161113
DTSTAMP:20260420T134432
CREATED:20160531T171213Z
LAST-MODIFIED:20160531T171213Z
UID:6779-1478908800-1478995199@mdemusica.pt
SUMMARY:Cuca Roseta - Coliseu\, Porto
DESCRIPTION:– Coliseu\, Porto \n \n 
URL:http://mdemusica.pt/agenda/cuca-roseta-coliseu-porto/
LOCATION:Coliseu Porto\, Rua Passos Manuel\, 137 \, Porto\, · 4000-385 
END:VEVENT
BEGIN:VEVENT
DTSTART;VALUE=DATE:20161112
DTEND;VALUE=DATE:20161113
DTSTAMP:20260420T134432
CREATED:20161017T121943Z
LAST-MODIFIED:20161018T111722Z
UID:8786-1478908800-1478995199@mdemusica.pt
SUMMARY:Carmen Souza & Theo Pascal |Misty Fest
DESCRIPTION:Casa da Música\, Porto
URL:http://mdemusica.pt/agenda/carmen-souza-theo-pascal-misty-fest-casa-da-musica-porto/
LOCATION:Casa da Música\, Av. da Boavista\, 604-610  \, Porto\, 4149-071\, Portugal
END:VEVENT
BEGIN:VEVENT
DTSTART;VALUE=DATE:20161112
DTEND;VALUE=DATE:20161113
DTSTAMP:20260420T134432
CREATED:20161017T122345Z
LAST-MODIFIED:20161018T111713Z
UID:8788-1478908800-1478995199@mdemusica.pt
SUMMARY:Dom La Nena | Misty Fest
DESCRIPTION:Teatro Micaelense\, São Miguel
URL:http://mdemusica.pt/agenda/dom-la-nena-misty-fest-teatro-micaelense-sao-miguel/
LOCATION:Teatro Micaelense\, Largo de S. João\,  Ponta Delgada\,  S. Miguel Açores \, Portugal
END:VEVENT
END:VCALENDAR