BEGIN:VCALENDAR
VERSION:2.0
PRODID:-//M de Música - ECPv5.14.1//NONSGML v1.0//EN
CALSCALE:GREGORIAN
METHOD:PUBLISH
X-WR-CALNAME:M de Música
X-ORIGINAL-URL:http://mdemusica.pt
X-WR-CALDESC:Events for M de Música
BEGIN:VTIMEZONE
TZID:Europe/Lisbon
BEGIN:DAYLIGHT
TZOFFSETFROM:+0000
TZOFFSETTO:+0100
TZNAME:WEST
DTSTART:20160327T010000
END:DAYLIGHT
BEGIN:STANDARD
TZOFFSETFROM:+0100
TZOFFSETTO:+0000
TZNAME:WET
DTSTART:20161030T010000
END:STANDARD
END:VTIMEZONE
BEGIN:VEVENT
DTSTART;VALUE=DATE:20160901
DTEND;VALUE=DATE:20160904
DTSTAMP:20260420T164655
CREATED:20160819T101131Z
LAST-MODIFIED:20160819T101903Z
UID:8177-1472688000-1472947199@mdemusica.pt
SUMMARY:Indie Music Fest
DESCRIPTION:– Bosque do Choupal\, Baltar\n\n\nPAUS\, You Can´t Win\, Charlie Brown\, Octa Push\, Salto\, Pista\, Alek Rein\, Savanna\, Galgo\, Riding Panico\, Basset Hounds\, Chibazqui\, Ditch Days\, GANSO\, Whales\, Ghost Hunt\, Pussywhips\, The Walks Granada\, Fugly\, Indio Kurtz\, Wild Apes\, Solution\, MUAY\, Pixel82\, 800 Gondomar\, Pinturas Negras\, Desligado\, Trot e Jesse\, O Bom o Mau e o Azevedo\, Sun Mammuth\, GoBabyGo\, About Size são as banda que podes ver no Bosque do Choupal em Baltar.
URL:http://mdemusica.pt/agenda/indie-music-fest/
LOCATION:Av.D. Manuel I\,  1518\,  Baltar\,  4585-014\, Portugal
END:VEVENT
END:VCALENDAR