BEGIN:VCALENDAR
VERSION:2.0
PRODID:-//M de Música - ECPv5.14.1//NONSGML v1.0//EN
CALSCALE:GREGORIAN
METHOD:PUBLISH
X-WR-CALNAME:M de Música
X-ORIGINAL-URL:http://mdemusica.pt
X-WR-CALDESC:Events for M de Música
BEGIN:VTIMEZONE
TZID:Europe/Lisbon
BEGIN:DAYLIGHT
TZOFFSETFROM:+0000
TZOFFSETTO:+0100
TZNAME:WEST
DTSTART:20160327T010000
END:DAYLIGHT
BEGIN:STANDARD
TZOFFSETFROM:+0100
TZOFFSETTO:+0000
TZNAME:WET
DTSTART:20161030T010000
END:STANDARD
END:VTIMEZONE
BEGIN:VEVENT
DTSTART;VALUE=DATE:20160811
DTEND;VALUE=DATE:20160815
DTSTAMP:20260420T175551
CREATED:20160531T023355Z
LAST-MODIFIED:20160531T033020Z
UID:6688-1470873600-1471219199@mdemusica.pt
SUMMARY:O Sol da Caparica
DESCRIPTION:– Costa de Caparica\, Almada \n \nO RAPPA\,ORELHA NEGRA\, C4 PEDRO\, DEOLINDA\, MÃO MORTA\, MARTA REN – THE GIFT\,  MUNDO SEGUNDO & SAM THE KID\,  AUREA\,  DIOGO PIÇARRA\,  CRISTINA BRANCO & MÁRIO LAGINHA\,  ELIDA ALMEIDA –  RUI VELOSO\, ANA MOURA\, DJ ZÉ PEDRO\, NELSON FREITAS\, X-WIFE\, WE TRUST
URL:http://mdemusica.pt/agenda/sol-da-caparica/
LOCATION:Parque Urbano Da Costa De Caparica\, Parque Urbano \, Almada\, Costa De Caparica\, Portugal
END:VEVENT
BEGIN:VEVENT
DTSTART;VALUE=DATE:20160812
DTEND;VALUE=DATE:20160816
DTSTAMP:20260420T175551
CREATED:20160531T024834Z
LAST-MODIFIED:20160531T025614Z
UID:6692-1470960000-1471305599@mdemusica.pt
SUMMARY:Festival Bons Sons
DESCRIPTION:– Cem Soldos\, Tomar
URL:http://mdemusica.pt/agenda/festival-bons-sons-12/
LOCATION:Festival Bons Sons\, Cem Soldos\, Tomar\, Portugal
END:VEVENT
END:VCALENDAR