BEGIN:VCALENDAR
VERSION:2.0
PRODID:-//M de Música - ECPv5.14.1//NONSGML v1.0//EN
CALSCALE:GREGORIAN
METHOD:PUBLISH
X-WR-CALNAME:M de Música
X-ORIGINAL-URL:http://mdemusica.pt
X-WR-CALDESC:Events for M de Música
BEGIN:VTIMEZONE
TZID:Europe/Lisbon
BEGIN:DAYLIGHT
TZOFFSETFROM:+0000
TZOFFSETTO:+0100
TZNAME:WEST
DTSTART:20160327T010000
END:DAYLIGHT
BEGIN:STANDARD
TZOFFSETFROM:+0100
TZOFFSETTO:+0000
TZNAME:WET
DTSTART:20161030T010000
END:STANDARD
END:VTIMEZONE
BEGIN:VEVENT
DTSTART;VALUE=DATE:20160722
DTEND;VALUE=DATE:20160731
DTSTAMP:20260420T192210
CREATED:20160524T230851Z
LAST-MODIFIED:20160531T030522Z
UID:6602-1469145600-1469923199@mdemusica.pt
SUMMARY:FMM
DESCRIPTION:– Sines
URL:http://mdemusica.pt/agenda/fmm/
LOCATION:Festival Músicas do Mundo\,  Largo do Poeta Bocage 5\, Sines\,  7520-152\, Portugal
END:VEVENT
BEGIN:VEVENT
DTSTART;VALUE=DATE:20160728
DTEND;VALUE=DATE:20160731
DTSTAMP:20260420T192210
CREATED:20160531T163114Z
LAST-MODIFIED:20160531T163114Z
UID:6770-1469664000-1469923199@mdemusica.pt
SUMMARY:Festival Mêda+
DESCRIPTION:28 – PAUS / 29 – Salto / 30 – Orelha Negra
URL:http://mdemusica.pt/agenda/festival-meda/
LOCATION:Mêda +\, Avenida Cidade de Cantanhede\, Guarda\,  6430-121\, Portugal
END:VEVENT
END:VCALENDAR