BEGIN:VCALENDAR
VERSION:2.0
PRODID:-//M de Música - ECPv5.14.1//NONSGML v1.0//EN
CALSCALE:GREGORIAN
METHOD:PUBLISH
X-WR-CALNAME:M de Música
X-ORIGINAL-URL:http://mdemusica.pt
X-WR-CALDESC:Events for M de Música
BEGIN:VTIMEZONE
TZID:Europe/Lisbon
BEGIN:DAYLIGHT
TZOFFSETFROM:+0000
TZOFFSETTO:+0100
TZNAME:WEST
DTSTART:20160327T010000
END:DAYLIGHT
BEGIN:STANDARD
TZOFFSETFROM:+0100
TZOFFSETTO:+0000
TZNAME:WET
DTSTART:20161030T010000
END:STANDARD
END:VTIMEZONE
BEGIN:VEVENT
DTSTART;VALUE=DATE:20160722
DTEND;VALUE=DATE:20160731
DTSTAMP:20260420T192400
CREATED:20160524T230851Z
LAST-MODIFIED:20160531T030522Z
UID:6602-1469145600-1469923199@mdemusica.pt
SUMMARY:FMM
DESCRIPTION:– Sines
URL:http://mdemusica.pt/agenda/fmm/
LOCATION:Festival Músicas do Mundo\,  Largo do Poeta Bocage 5\, Sines\,  7520-152\, Portugal
END:VEVENT
BEGIN:VEVENT
DTSTART;VALUE=DATE:20160722
DTEND;VALUE=DATE:20160723
DTSTAMP:20260420T192400
CREATED:20160530T201525Z
LAST-MODIFIED:20160530T202534Z
UID:6635-1469145600-1469231999@mdemusica.pt
SUMMARY:Diana Krall
DESCRIPTION:– Campo Pequeno\, Lisboa
URL:http://mdemusica.pt/agenda/diana-krall-campo-pequeno/
LOCATION:Campo Pequeno\, Centro de Lazer Campo Pequeno 1000-082 Lisboa\, Lisboa\, 1000-082 \, Portugal
END:VEVENT
BEGIN:VEVENT
DTSTART;VALUE=DATE:20160722
DTEND;VALUE=DATE:20160724
DTSTAMP:20260420T192400
CREATED:20160531T161726Z
LAST-MODIFIED:20160531T172027Z
UID:6767-1469145600-1469318399@mdemusica.pt
SUMMARY:NOS Summer Opening\, Funchal
DESCRIPTION:–  Funchal \n \n22 – SKYE & ROSS FROM MORCHEEBA\, ORELHA NEGRA\, JIMMYP\n23 – RICHIE CAMPELL\, JAZZANOVA LIVE FT.PAUL RANDOLPH\, DA CHICK
URL:http://mdemusica.pt/agenda/orelha-negra-nos-summer-opening-funchal/
LOCATION:PARQUE SANTA CATARINA\, Praceta do Infante \, Funchal\,  9000\, Portugal
END:VEVENT
END:VCALENDAR