BEGIN:VCALENDAR
VERSION:2.0
PRODID:-//M de Música - ECPv5.14.1//NONSGML v1.0//EN
CALSCALE:GREGORIAN
METHOD:PUBLISH
X-WR-CALNAME:M de Música
X-ORIGINAL-URL:http://mdemusica.pt
X-WR-CALDESC:Events for M de Música
BEGIN:VTIMEZONE
TZID:Europe/Lisbon
BEGIN:DAYLIGHT
TZOFFSETFROM:+0000
TZOFFSETTO:+0100
TZNAME:WEST
DTSTART:20160327T010000
END:DAYLIGHT
BEGIN:STANDARD
TZOFFSETFROM:+0100
TZOFFSETTO:+0000
TZNAME:WET
DTSTART:20161030T010000
END:STANDARD
TZID:UTC
BEGIN:STANDARD
TZOFFSETFROM:+0000
TZOFFSETTO:+0000
TZNAME:UTC
DTSTART:20160101T000000
END:STANDARD
END:VTIMEZONE
BEGIN:VEVENT
DTSTART;TZID=Europe/Lisbon:20160603T190000
DTEND;TZID=Europe/Lisbon:20160605T200000
DTSTAMP:20260420T210417
CREATED:20160530T234114Z
LAST-MODIFIED:20160530T234514Z
UID:6649-1464980400-1465156800@mdemusica.pt
SUMMARY:Les Plages Electroniques Hula Hula\, Praia do Rei\, Costa de Caparica
DESCRIPTION:Jimmy Edgar\, Danny Daze\, Magazino\, Bondax\, Yall\, Villanova\, Glove b2b John E \n \n 
URL:http://mdemusica.pt/agenda/les-plages-electroniques/
LOCATION:Hula Hula\, Praia do Rei\, Costa de Caparica\, Setúbal\, 2825-491\, Portugal
END:VEVENT
BEGIN:VEVENT
DTSTART;VALUE=DATE:20160605
DTEND;VALUE=DATE:20160606
DTSTAMP:20260420T210417
CREATED:20160510T232746Z
LAST-MODIFIED:20160522T195349Z
UID:6139-1465084800-1465171199@mdemusica.pt
SUMMARY:Deolinda
DESCRIPTION:– Cine-Teatro Louletano \n \n 
URL:http://mdemusica.pt/agenda/deolinda/
LOCATION:Cine-Teatro Louletano\, Avenida José da Costa Mealha\, Loulé\,  8100-501\, Portugal
END:VEVENT
END:VCALENDAR