BEGIN:VCALENDAR
VERSION:2.0
PRODID:-//M de Música - ECPv5.14.1//NONSGML v1.0//EN
CALSCALE:GREGORIAN
METHOD:PUBLISH
X-WR-CALNAME:M de Música
X-ORIGINAL-URL:http://mdemusica.pt
X-WR-CALDESC:Events for M de Música
BEGIN:VTIMEZONE
TZID:UTC
BEGIN:STANDARD
TZOFFSETFROM:+0000
TZOFFSETTO:+0000
TZNAME:UTC
DTSTART:20160101T000000
END:STANDARD
END:VTIMEZONE
BEGIN:VEVENT
DTSTART;VALUE=DATE:20160522
DTEND;VALUE=DATE:20160523
DTSTAMP:20260420T224714
CREATED:20160511T225946Z
LAST-MODIFIED:20160531T172421Z
UID:6182-1463875200-1463961599@mdemusica.pt
SUMMARY:Adele
DESCRIPTION:– Meo Arena
URL:http://mdemusica.pt/agenda/adele/
LOCATION:Altice Arena\, Rossio dos Olivais\, Lote 2.13.01A\, Lisboa\, 1990-231\, Portugal
END:VEVENT
BEGIN:VEVENT
DTSTART;VALUE=DATE:20160522
DTEND;VALUE=DATE:20160523
DTSTAMP:20260420T224714
CREATED:20160511T230421Z
LAST-MODIFIED:20160531T172434Z
UID:6183-1463875200-1463961599@mdemusica.pt
SUMMARY:Michael Nyman
DESCRIPTION:– Casa da Música
URL:http://mdemusica.pt/agenda/michael-nyman/
LOCATION:Casa da Música\, Av. da Boavista\, 604-610  \, Porto\, 4149-071\, Portugal
END:VEVENT
END:VCALENDAR