BEGIN:VCALENDAR
VERSION:2.0
PRODID:-//M de Música - ECPv5.14.1//NONSGML v1.0//EN
CALSCALE:GREGORIAN
METHOD:PUBLISH
X-WR-CALNAME:M de Música
X-ORIGINAL-URL:http://mdemusica.pt
X-WR-CALDESC:Events for M de Música
BEGIN:VTIMEZONE
TZID:UTC
BEGIN:STANDARD
TZOFFSETFROM:+0000
TZOFFSETTO:+0000
TZNAME:UTC
DTSTART:20160101T000000
END:STANDARD
END:VTIMEZONE
BEGIN:VEVENT
DTSTART;VALUE=DATE:20160520
DTEND;VALUE=DATE:20160521
DTSTAMP:20260420T223215
CREATED:20160511T225044Z
LAST-MODIFIED:20160531T172525Z
UID:6178-1463702400-1463788799@mdemusica.pt
SUMMARY:RockInRio Lisboa'16
DESCRIPTION:– Parque da Bela Vista \n \nQueen com Adam Lambert\, Mika\, Fergie\, Rock in Rio – O Musical\, Boogarins\, Sensible Soccers\, Carl Cox\, Octave One (live)\, DJ Vibe\, Conti & Leozinho\, Carlos Manaça
URL:http://mdemusica.pt/agenda/rock-rio-lisboa-20/
LOCATION:Parque da Bela Vista\,  Rua Dr. Arlindo Vicente\, \,  Lisboa.\, 1950-080\, Portugal
END:VEVENT
END:VCALENDAR