BEGIN:VCALENDAR
VERSION:2.0
PRODID:-//M de Música - ECPv5.14.1//NONSGML v1.0//EN
CALSCALE:GREGORIAN
METHOD:PUBLISH
X-WR-CALNAME:M de Música
X-ORIGINAL-URL:http://mdemusica.pt
X-WR-CALDESC:Events for M de Música
BEGIN:VTIMEZONE
TZID:UTC
BEGIN:STANDARD
TZOFFSETFROM:+0000
TZOFFSETTO:+0000
TZNAME:UTC
DTSTART:20160101T000000
END:STANDARD
END:VTIMEZONE
BEGIN:VEVENT
DTSTART;VALUE=DATE:20160514
DTEND;VALUE=DATE:20160515
DTSTAMP:20260420T224535
CREATED:20160511T005449Z
LAST-MODIFIED:20160531T172709Z
UID:6162-1463184000-1463270399@mdemusica.pt
SUMMARY:Fandango
DESCRIPTION:– Cine-Incrível
URL:http://mdemusica.pt/agenda/fandango/
LOCATION:Cine-Incrível\,  Rua Capitão Leitão 1\, Almada\,  2800-135 \, Portugal
END:VEVENT
BEGIN:VEVENT
DTSTART;VALUE=DATE:20160514
DTEND;VALUE=DATE:20160515
DTSTAMP:20260420T224535
CREATED:20160511T223115Z
LAST-MODIFIED:20160531T172650Z
UID:6172-1463184000-1463270399@mdemusica.pt
SUMMARY:Capitão Fausto
DESCRIPTION:– Gnration
URL:http://mdemusica.pt/agenda/capitao-fausto/
LOCATION:GNRation\, Praça Conde de Agrolongo \,  Braga\, 4700-312\, Portugal
END:VEVENT
END:VCALENDAR